BEGIN:VCALENDAR
VERSION:2.0
PRODID:-//Oaks Integrated Care - ECPv6.15.20//NONSGML v1.0//EN
CALSCALE:GREGORIAN
METHOD:PUBLISH
X-WR-CALNAME:Oaks Integrated Care
X-ORIGINAL-URL:https://oaksintcare.org
X-WR-CALDESC:Events for Oaks Integrated Care
REFRESH-INTERVAL;VALUE=DURATION:PT1H
X-Robots-Tag:noindex
X-PUBLISHED-TTL:PT1H
BEGIN:VTIMEZONE
TZID:America/New_York
BEGIN:DAYLIGHT
TZOFFSETFROM:-0500
TZOFFSETTO:-0400
TZNAME:EDT
DTSTART:20190310T070000
END:DAYLIGHT
BEGIN:STANDARD
TZOFFSETFROM:-0400
TZOFFSETTO:-0500
TZNAME:EST
DTSTART:20191103T060000
END:STANDARD
BEGIN:DAYLIGHT
TZOFFSETFROM:-0500
TZOFFSETTO:-0400
TZNAME:EDT
DTSTART:20200308T070000
END:DAYLIGHT
BEGIN:STANDARD
TZOFFSETFROM:-0400
TZOFFSETTO:-0500
TZNAME:EST
DTSTART:20201101T060000
END:STANDARD
BEGIN:DAYLIGHT
TZOFFSETFROM:-0500
TZOFFSETTO:-0400
TZNAME:EDT
DTSTART:20210314T070000
END:DAYLIGHT
BEGIN:STANDARD
TZOFFSETFROM:-0400
TZOFFSETTO:-0500
TZNAME:EST
DTSTART:20211107T060000
END:STANDARD
END:VTIMEZONE
BEGIN:VEVENT
DTSTART;VALUE=DATE:20200515
DTEND;VALUE=DATE:20200616
DTSTAMP:20260425T201134
CREATED:20200515T120408Z
LAST-MODIFIED:20200903T195748Z
UID:10000010-1589500800-1592265599@oaksintcare.org
SUMMARY:Diaper Derby
DESCRIPTION:Join Our Race to Collect 25\,000 Diapers: May 15 – June 15\nJoin our Diaper Derby race to collect 25\,000 diapers for families in need in our community! Many families in Oaks programs cannot afford to pay for necessary baby items. The cost of diapers can put an enormous financial strain on families struggling to make ends meet. That need has skyrocketed during the pandemic and families need our help now more than ever! \nHow You Can Help… Virtually!\nMake a monetary donation to help us reach our goal of $5\,000 by June 15th!\nFor everyone’s safety\, this year we will focus on collecting diapers VIRTUALLY! Every donation counts. Please consider making a donation to support our most vulnerable community members. Your generous contribution will directly impact a family’s ability to thrive and be self-sufficient! \n\n    \nDid You Know?\n1 in 3 families in the United States struggle to pay for diapers \n\nAlthough safety-net programs help with the cost of food\, they do not cover the cost of diapers. \n\nBabies use more than 2\,700 diapers in the first year alone – a cost many families struggle to afford. \n\nWithout a supply of diapers\, babies cannot participate in early childhood education. \n\nChildren who do not have access to clean diapers are exposed to health risks such as painful rashes and infections.
URL:https://oaksintcare.org/event/diaperderby2020/
CATEGORIES:Donation Drive
ATTACH;FMTTYPE=image/jpeg:https://oaksintcare.org/wp-content/uploads/2020/05/DiaperDerby_HomePage.jpg
ORGANIZER;CN="Oaks Development Office":MAILTO:development@oaksintcare.org
END:VEVENT
END:VCALENDAR